BEGIN:VCALENDAR
VERSION:2.0
PRODID:-//Squarespace Inc/Squarespace 6//v6//EN
BEGIN:VEVENT
UID:5a30c8a724a694311d43ea74@squarespace.com
DTSTAMP:20180405T023215Z
DTSTART:20180516T233000Z
DTEND:20180517T043000Z
SUMMARY:Ripple Effect Series 2
END:VEVENT
END:VCALENDAR
