BEGIN:VCALENDAR
VERSION:2.0
PRODID:-//Squarespace Inc/Squarespace 6//v6//EN
BEGIN:VEVENT
UID:5a8e2787085229db68b56df0@squarespace.com
DTSTAMP:20180301T015051Z
DTSTART:20180408T070000Z
DTEND:20180408T090000Z
SUMMARY:Movie: The Post
END:VEVENT
END:VCALENDAR
