BEGIN:VCALENDAR
VERSION:2.0
PRODID:-//Squarespace Inc/Squarespace 6//v6//EN
BEGIN:VEVENT
UID:5ac57055352f53d54e0764b0@squarespace.com
DTSTAMP:20181031T232922Z
DTSTART:20181110T070000Z
DTEND:20181110T110000Z
SUMMARY:Make It Local - A Shared Table Dinner Spring
END:VEVENT
END:VCALENDAR
