BEGIN:VCALENDAR
VERSION:2.0
PRODID:-//Squarespace Inc/Squarespace 6//v6//EN
BEGIN:VEVENT
UID:5ade9cda0e2e727f391198d6@squarespace.com
DTSTAMP:20181114T235757Z
DTSTART:20181208T070000Z
DTEND:20181208T110000Z
SUMMARY:TACC Christmas Party and Make It Local Shared Dinner
END:VEVENT
END:VCALENDAR
