BEGIN:VCALENDAR
VERSION:2.0
PRODID:-//Squarespace Inc/Squarespace 6//v6//EN
BEGIN:VEVENT
UID:5ad69ca170a6ad56881db27a@squarespace.com
DTSTAMP:20180418T012145Z
DTSTART:20180507T233000Z
DTEND:20180508T050000Z
SUMMARY:Karen Walsh Art 6 weeks 24 April - 29 May
END:VEVENT
END:VCALENDAR
