BEGIN:VCALENDAR
VERSION:2.0
PRODID:-//Squarespace Inc/Squarespace 6//v6//EN
BEGIN:VEVENT
UID:5ad69cf2352f5320d2ff195c@squarespace.com
DTSTAMP:20180418T012229Z
DTSTART:20180521T233000Z
DTEND:20180522T050000Z
SUMMARY:Karen Walsh Art 6 weeks 24 April - 29 May
END:VEVENT
END:VCALENDAR
