BEGIN:VCALENDAR
VERSION:2.0
PRODID:-//Squarespace Inc/Squarespace 6//v6//EN
BEGIN:VEVENT
UID:5ad69c79f950b724bbd124db@squarespace.com
DTSTAMP:20180418T012130Z
DTSTART:20180430T233000Z
DTEND:20180501T050000Z
SUMMARY:Karen Walsh Art 6 weeks 24 April - 29 May
END:VEVENT
END:VCALENDAR
