BEGIN:VCALENDAR
VERSION:2.0
PRODID:-//Squarespace Inc/Squarespace 6//v6//EN
BEGIN:VEVENT
UID:5ab2edbb6d2a73f09ee28442@squarespace.com
DTSTAMP:20180321T235127Z
DTSTART:20180426T000000Z
DTEND:20180426T023000Z
SUMMARY:Friendship Group - Mudlarks 
END:VEVENT
END:VCALENDAR
