BEGIN:VCALENDAR
VERSION:2.0
PRODID:-//Squarespace Inc/Squarespace 6//v6//EN
BEGIN:VEVENT
UID:5aa9c7fd24a694c63a7bb668@squarespace.com
DTSTAMP:20180328T014101Z
DTSTART:20180414T080000Z
DTEND:20180414T113000Z
SUMMARY:Aladdin and his Wonderful Magical Lamp 
END:VEVENT
END:VCALENDAR
