BEGIN:VCALENDAR
VERSION:2.0
PRODID:-//Squarespace Inc/Squarespace 6//v6//EN
BEGIN:VEVENT
UID:5aa9ca0b71c10b19376eaf50@squarespace.com
DTSTAMP:20180328T014209Z
DTSTART:20180413T090000Z
DTEND:20180413T110000Z
SUMMARY:Aladdin and his Wonderful Magical Lamp 
END:VEVENT
END:VCALENDAR
