BEGIN:VCALENDAR
VERSION:2.0
PRODID:-//Squarespace Inc/Squarespace 6//v6//EN
BEGIN:VEVENT
UID:5a975d7a0852296b12e071d1@squarespace.com
DTSTAMP:20180301T020128Z
DTSTART:20180513T070000Z
DTEND:20180513T090000Z
SUMMARY:Movie: The Greatest Showman
END:VEVENT
END:VCALENDAR
