BEGIN:VCALENDAR
VERSION:2.0
PRODID:-//Squarespace Inc/Squarespace 6//v6//EN
BEGIN:VEVENT
UID:5c0865ab03ce64285fa26eac@squarespace.com
DTSTAMP:20190109T230424Z
DTSTART:20190124T073000Z
DTEND:20190124T103000Z
SUMMARY:Andrew Blanch &amp\; Ariel Nurhadi present Alchemy: Guitar Duets fr
 om around the World
END:VEVENT
END:VCALENDAR
