BEGIN:VCALENDAR
VERSION:2.0
PRODID:-//Squarespace Inc/Squarespace 6//v6//EN
BEGIN:VEVENT
UID:5bbe908d419202b3a545d407@squarespace.com
DTSTAMP:20181114T225857Z
DTSTART:20181204T233000Z
DTEND:20181205T013000Z
SUMMARY: Movie: Mamma Mia Here We Go Again
END:VEVENT
END:VCALENDAR
