BEGIN:VCALENDAR
VERSION:2.0
PRODID:-//Squarespace Inc/Squarespace 6//v6//EN
BEGIN:VEVENT
UID:5bbe90b5f9619a8e2b3c34f2@squarespace.com
DTSTAMP:20181114T230219Z
DTSTART:20181202T060000Z
DTEND:20181202T080000Z
SUMMARY:Movie: Mamma Mia Here We Go Again
END:VEVENT
END:VCALENDAR
