BEGIN:VCALENDAR
VERSION:2.0
PRODID:-//Squarespace Inc/Squarespace 6//v6//EN
BEGIN:VEVENT
UID:5c087bebcd8366f8b755cd6c@squarespace.com
DTSTAMP:20181220T011522Z
DTSTART:20181221T023000Z
DTEND:20190107T110000Z
SUMMARY:TACC CLOSURE 
END:VEVENT
END:VCALENDAR
