BEGIN:VCALENDAR
VERSION:2.0
PRODID:-//Squarespace Inc/Squarespace 6//v6//EN
BEGIN:VEVENT
UID:5bbe92e471c10bfd8a0096c4@squarespace.com
DTSTAMP:20181130T021554Z
DTSTART:20181218T233000Z
DTEND:20181219T013000Z
SUMMARY:Movie: Book Club
END:VEVENT
END:VCALENDAR
