BEGIN:VCALENDAR
VERSION:2.0
PRODID:-//Squarespace Inc/Squarespace 6//v6//EN
BEGIN:VEVENT
UID:5bbe93930852294d903dfd80@squarespace.com
DTSTAMP:20181011T003110Z
DTSTART:20181219T080000Z
DTEND:20181219T100000Z
SUMMARY:Movie: Book Club
END:VEVENT
END:VCALENDAR
