BEGIN:VCALENDAR
VERSION:2.0
PRODID:-//Squarespace Inc/Squarespace 6//v6//EN
BEGIN:VEVENT
UID:5bbe93b88165f5b3aa1ff890@squarespace.com
DTSTAMP:20181011T003136Z
DTSTART:20181223T060000Z
DTEND:20181223T080000Z
SUMMARY:Movie: Book Club
END:VEVENT
END:VCALENDAR
