BEGIN:VCALENDAR
VERSION:2.0
PRODID:-//Squarespace Inc/Squarespace 6//v6//EN
BEGIN:VEVENT
UID:5c1ae9db0e2e729c8351e71e@squarespace.com
DTSTAMP:20181220T010704Z
DTSTART:20190116T230000Z
DTEND:20190117T010000Z
SUMMARY:School holiday Dance Workshop with Angela French 
END:VEVENT
END:VCALENDAR
