BEGIN:VCALENDAR
VERSION:2.0
PRODID:-//Squarespace Inc/Squarespace 6//v6//EN
BEGIN:VEVENT
UID:5beccb5e0e2e721a01e1301f@squarespace.com
DTSTAMP:20181115T013558Z
DTSTART:20181213T060000Z
DTEND:20181213T083000Z
SUMMARY:Chris Edwards School of Dance: From the Heart
END:VEVENT
END:VCALENDAR
