BEGIN:VCALENDAR
VERSION:2.0
PRODID:-//Squarespace Inc/Squarespace 6//v6//EN
BEGIN:VEVENT
UID:5beccdd1032be4c662fd02db@squarespace.com
DTSTAMP:20181115T013803Z
DTSTART:20181214T233000Z
DTEND:20181215T020000Z
SUMMARY:Chris Edwards School of Dance: From the Heart
END:VEVENT
END:VCALENDAR
