BEGIN:VCALENDAR
VERSION:2.0
PRODID:-//Squarespace Inc/Squarespace 6//v6//EN
BEGIN:VEVENT
UID:5becce061ae6cfd30327deb6@squarespace.com
DTSTAMP:20181115T013904Z
DTSTART:20181215T060000Z
DTEND:20181215T083000Z
SUMMARY:Chris Edwards School of Dance: From the Heart
END:VEVENT
END:VCALENDAR
