BEGIN:VCALENDAR
VERSION:2.0
PRODID:-//Squarespace Inc/Squarespace 6//v6//EN
BEGIN:VEVENT
UID:5beccd50032be4c662fcfb35@squarespace.com
DTSTAMP:20181115T013530Z
DTSTART:20181212T060000Z
DTEND:20181212T083000Z
SUMMARY: Chris Edwards School of Dance: From the Heart
END:VEVENT
END:VCALENDAR
