BEGIN:VCALENDAR
VERSION:2.0
PRODID:-//Squarespace Inc/Squarespace 6//v6//EN
BEGIN:VEVENT
UID:5bbe99fd085229824547e4fb@squarespace.com
DTSTAMP:20181011T003550Z
DTSTART:20181201T080000Z
DTEND:20181201T100000Z
SUMMARY:White Ribbon Day Movie Night - Safe Haven
END:VEVENT
END:VCALENDAR
