BEGIN:VCALENDAR
VERSION:2.0
PRODID:-//Squarespace Inc/Squarespace 6//v6//EN
BEGIN:VEVENT
UID:5a31c5eb24a6943e9620c74f@squarespace.com
DTSTAMP:20181025T021556Z
DTSTART:20181109T083000Z
DTEND:20181109T100000Z
SUMMARY:Grigoryan Brothers - A MADD eligible event 
END:VEVENT
END:VCALENDAR
