BEGIN:VCALENDAR
VERSION:2.0
PRODID:-//Squarespace Inc/Squarespace 6//v6//EN
BEGIN:VEVENT
UID:5bda3b171ae6cf8698ec8a2c@squarespace.com
DTSTAMP:20181031T234437Z
DTSTART:20181123T083000Z
DTEND:20181123T103000Z
SUMMARY:Alison Patterson - An End of Year Celebration of Music 
END:VEVENT
END:VCALENDAR
