BEGIN:VCALENDAR
VERSION:2.0
PRODID:-//Squarespace Inc/Squarespace 6//v6//EN
BEGIN:VEVENT
UID:5bda51424ae237cd89f046dc@squarespace.com
DTSTAMP:20181101T011142Z
DTSTART:20181116T060000Z
DTEND:20181116T100000Z
SUMMARY:Lanternlights 
END:VEVENT
END:VCALENDAR
