BEGIN:VCALENDAR
VERSION:2.0
PRODID:-//Squarespace Inc/Squarespace 6//v6//EN
BEGIN:VEVENT
UID:5bc7b9f09140b78f70813afb@squarespace.com
DTSTAMP:20181017T224039Z
DTSTART:20181101T070000Z
DTEND:20181101T090000Z
SUMMARY:Dance 2590 - 'Beyond the Toy Box'
END:VEVENT
END:VCALENDAR
