BEGIN:VCALENDAR
VERSION:2.0
PRODID:-//Squarespace Inc/Squarespace 6//v6//EN
BEGIN:VEVENT
UID:5bc7ba7571c10bf1e8f32348@squarespace.com
DTSTAMP:20181017T224139Z
DTSTART:20181102T070000Z
DTEND:20181102T090000Z
SUMMARY:Dance 2590 - 'Beyond the Toy Box'
END:VEVENT
END:VCALENDAR
