BEGIN:VCALENDAR
VERSION:2.0
PRODID:-//Squarespace Inc/Squarespace 6//v6//EN
BEGIN:VEVENT
UID:5bc7ba7bec212d06bcaea515@squarespace.com
DTSTAMP:20181017T224203Z
DTSTART:20181103T070000Z
DTEND:20181103T090000Z
SUMMARY:Dance 2590 - 'Beyond the Toy Box'
END:VEVENT
END:VCALENDAR
