BEGIN:VCALENDAR
VERSION:2.0
PRODID:-//Squarespace Inc/Squarespace 6//v6//EN
BEGIN:VEVENT
UID:5bc7baccf4e1fcb9209bd7ad@squarespace.com
DTSTAMP:20181017T225254Z
DTSTART:20181102T230000Z
DTEND:20181103T010000Z
SUMMARY:Dance 2590 - 'Beyond the Toy Box'
END:VEVENT
END:VCALENDAR
