BEGIN:VCALENDAR
VERSION:2.0
PRODID:-//Squarespace Inc/Squarespace 6//v6//EN
BEGIN:VEVENT
UID:5b99a4ecf950b779d5599979@squarespace.com
DTSTAMP:20180913T020104Z
DTSTART:20181005T003000Z
DTEND:20181005T023000Z
SUMMARY:Kids Movie: Duck Duck Goose
END:VEVENT
END:VCALENDAR
