BEGIN:VCALENDAR
VERSION:2.0
PRODID:-//Squarespace Inc/Squarespace 6//v6//EN
BEGIN:VEVENT
UID:5b99a62b70a6adaccf757fa2@squarespace.com
DTSTAMP:20181010T234946Z
DTSTART:20181010T233000Z
DTEND:20181011T013000Z
SUMMARY:Kids Movie: Duck Duck Goose
END:VEVENT
END:VCALENDAR
