BEGIN:VCALENDAR
VERSION:2.0
PRODID:-//Squarespace Inc/Squarespace 6//v6//EN
BEGIN:VEVENT
UID:5b99a6ca0ebbe8e9409a910e@squarespace.com
DTSTAMP:20180913T020124Z
DTSTART:20181009T030000Z
DTEND:20181009T050000Z
SUMMARY:Kids Movie: Duck Duck Goose
END:VEVENT
END:VCALENDAR
