BEGIN:VCALENDAR
VERSION:2.0
PRODID:-//Squarespace Inc/Squarespace 6//v6//EN
BEGIN:VEVENT
UID:5bac1f10ec212d7e8e292222@squarespace.com
DTSTAMP:20180927T004701Z
DTSTART:20181029T223000Z
DTEND:20181030T040000Z
SUMMARY:An Art Experience with Karen Walsh "Sketchbook Allscapes"
END:VEVENT
END:VCALENDAR
