BEGIN:VCALENDAR
VERSION:2.0
PRODID:-//Squarespace Inc/Squarespace 6//v6//EN
BEGIN:VEVENT
UID:5bac2088f4e1fc46b2e434d5@squarespace.com
DTSTAMP:20180927T001404Z
DTSTART:20181105T223000Z
DTEND:20181106T040000Z
SUMMARY:An Art Experience with Karen Walsh "Sketchbook Allscapes"
END:VEVENT
END:VCALENDAR
