BEGIN:VCALENDAR
VERSION:2.0
PRODID:-//Squarespace Inc/Squarespace 6//v6//EN
BEGIN:VEVENT
UID:5bac20acb208fc85417ba835@squarespace.com
DTSTAMP:20180927T001421Z
DTSTART:20181112T223000Z
DTEND:20181113T040000Z
SUMMARY:An Art Experience with Karen Walsh "Sketchbook Allscapes"
END:VEVENT
END:VCALENDAR
