BEGIN:VCALENDAR
VERSION:2.0
PRODID:-//Squarespace Inc/Squarespace 6//v6//EN
BEGIN:VEVENT
UID:5bac20e753450a3f3bc94aaf@squarespace.com
DTSTAMP:20180927T001447Z
DTSTART:20181119T223000Z
DTEND:20181120T040000Z
SUMMARY:An Art Experience with Karen Walsh "Sketchbook Allscapes"
END:VEVENT
END:VCALENDAR
