BEGIN:VCALENDAR
VERSION:2.0
PRODID:-//Squarespace Inc/Squarespace 6//v6//EN
BEGIN:VEVENT
UID:5bac210a15fcc05326ac919a@squarespace.com
DTSTAMP:20180927T001525Z
DTSTART:20181126T223000Z
DTEND:20181127T040000Z
SUMMARY:An Art Experience with Karen Walsh "Sketchbook Allscapes"
END:VEVENT
END:VCALENDAR
