BEGIN:VCALENDAR
VERSION:2.0
PRODID:-//Squarespace Inc/Squarespace 6//v6//EN
BEGIN:VEVENT
UID:5bac2131eef1a129309c87fe@squarespace.com
DTSTAMP:20180927T001559Z
DTSTART:20181203T223000Z
DTEND:20181204T040000Z
SUMMARY:An Art Experience with Karen Walsh "Sketchbook Allscapes"
END:VEVENT
END:VCALENDAR
