BEGIN:VCALENDAR
VERSION:2.0
PRODID:-//Squarespace Inc/Squarespace 6//v6//EN
BEGIN:VEVENT
UID:5a31ba0b53450a022f7518f7@squarespace.com
DTSTAMP:20180314T235135Z
DTSTART:20181003T030000Z
DTEND:20181003T034500Z
SUMMARY:Josephine Wants To Dance
END:VEVENT
END:VCALENDAR
