BEGIN:VCALENDAR
VERSION:2.0
PRODID:-//Squarespace Inc/Squarespace 6//v6//EN
BEGIN:VEVENT
UID:5a31bddbe2c4834184a46a8b@squarespace.com
DTSTAMP:20180314T235155Z
DTSTART:20181003T000000Z
DTEND:20181003T004500Z
SUMMARY:Josephine Wants To Dance
END:VEVENT
END:VCALENDAR
