BEGIN:VCALENDAR
VERSION:2.0
PRODID:-//Squarespace Inc/Squarespace 6//v6//EN
BEGIN:VEVENT
UID:5b4ff4d41ae6cfa99e5a8ea0@squarespace.com
DTSTAMP:20181010T235002Z
DTSTART:20181016T233000Z
DTEND:20181017T013000Z
SUMMARY:Movie: Gurrumul
END:VEVENT
END:VCALENDAR
