BEGIN:VCALENDAR
VERSION:2.0
PRODID:-//Squarespace Inc/Squarespace 6//v6//EN
BEGIN:VEVENT
UID:5b4ff57b1ae6cfa99e5aabf4@squarespace.com
DTSTAMP:20180824T005921Z
DTSTART:20181017T080000Z
DTEND:20181017T100000Z
SUMMARY: Movie: Gurrumul
END:VEVENT
END:VCALENDAR
