BEGIN:VCALENDAR
VERSION:2.0
PRODID:-//Squarespace Inc/Squarespace 6//v6//EN
BEGIN:VEVENT
UID:5b4ff5a3aa4a99a4f7242abc@squarespace.com
DTSTAMP:20180824T005957Z
DTSTART:20181021T060000Z
DTEND:20181021T080000Z
SUMMARY:Movie: Gurrumul
END:VEVENT
END:VCALENDAR
