BEGIN:VCALENDAR
VERSION:2.0
PRODID:-//Squarespace Inc/Squarespace 6//v6//EN
BEGIN:VEVENT
UID:5bac2ad2652dea0a1b5ca130@squarespace.com
DTSTAMP:20180927T011247Z
DTSTART:20181012T070000Z
DTEND:20181012T080000Z
SUMMARY:Friday Night at TACC 
END:VEVENT
END:VCALENDAR
