BEGIN:VCALENDAR
VERSION:2.0
PRODID:-//Squarespace Inc/Squarespace 6//v6//EN
BEGIN:VEVENT
UID:5bac1b379140b7582b937764@squarespace.com
DTSTAMP:20180927T000355Z
DTSTART:20181009T223000Z
DTEND:20181010T040000Z
SUMMARY:Exploring Painting with Angela Coombs Matthews
END:VEVENT
END:VCALENDAR
